Workbook
Name base_53: [1]base_53!#REF!
Name base_66: [1]base_66!#REF!
Name base_70: [1]base_70!#REF!
Name base_76: [1]base_76!#REF!
Name base_80: [1]base_80!#REF!
Name base_85: [1]base_85!#REF!
Name base_90: [1]base_90!#REF!
Name CoherenceInterval: [2]HiddenSettings!$B$4
Name Filters: [3]Filters!$A$2:$C$21
Name Structure: [3]Structure!$C$2:$L$108

Sheet INDICE
C3: Le trasformazioni dell'Italia
B4: I prezzi al consumo
B5: 1 | C5: I prezzi al consumo in Italia. Anni 1862-2025
B6: 2 | C6: Indici dei prezzi al consumo dei beni energetici e indice generale per l’intera collettività. Gennaio 1954-settembre 2026
B7: 3 | C7: Andamento dei prezzi dei beni e dei servizi, Anni 1955-2026
B8: 4 | C8: Indici dei prezzi al consumo per l’intera collettività, per divisione di spesa e categorie e aggregati selezionati. Anno 2025 vs. 2000
B9: 5 | C9: Quantità acquistabili con una somma equivalente a cinque euro del 2025 di alcuni beni di largo consumo alimentare. anni 2026 e 2025.
B10: 6 | C10: I prezzi al consumo in Italia, Francia, Germania e Spagna. Anni 1956-2025
A12: Dati aggiornati al: | C12: 09.10.2026
A14: vai al documento: | C14: https://www.istat.it/produzione-editoriale/inflazione/

Sheet 1
A1: #VALUE! | B1: I prezzi al consumo
A2: Vai all'indice
A4: Figura 1: I prezzi al consumo in Italia. Anni 1862-2025. Variazioni percentuali medie annue (a)
B5: variazioni annue | D5: medie di periodo | AA5: PIL
A6: anni | B6: Famiglie operai e impiegati | C6: Intera collettività | E6: PIL AI PREZZI 2020 | W6: periodi | Y6: variazione di periodo | Z6: tasso di crescita medio | AA6: variazione di periodo | AB6: tasso di crescita medio
A7: 1861 | E7: 62293.108
A8: 1862 | B8: 0.6097561 | D8: 0.37589502 | E8: 63532.227 | W8: 1861 | X8: =+W9 -> 1914 | Y8: =+ROUND(VLOOKUP(X8,'[4]foi 1861 - 1954'!$A$6:$B$170,2,FALSE)/VLOOKUP('1'!W8,'[4]foi 1861 - 1954'!$A$6:$B$170,2,FALSE)*100-100,1) -> 22 | Z8: =+(POWER((Y8+100)/100,1/(X8-W8))-1)*100 -> 0.37589502 | AA8: =+ROUND(VLOOKUP(X8,$A$7:$E$171,5,FALSE)/VLOOKUP('1'!W8,$A$7:$E$171,5,FALSE)*100-100,1) -> 114.1 | AB8: =+(POWER((AA8+100)/100,1/(X8-W8))-1)*100 -> 1.4467294
A9: 1863 | B9: -2.9090909 | D9: 0.37589502 | E9: 65499.495 | W9: 1914 | X9: =+W10 -> 1921 | Y9: =+ROUND(VLOOKUP(X9,'[4]foi 1861 - 1954'!$A$6:$B$170,2,FALSE)/VLOOKUP('1'!W9,'[4]foi 1861 - 1954'!$A$6:$B$170,2,FALSE)*100-100,1) -> 316.8 | Z9: =+(POWER((Y9+100)/100,1/(X9-W9))-1)*100 -> 22.619941 | AA9: =+ROUND(VLOOKUP(X9,$A$7:$E$171,5,FALSE)/VLOOKUP('1'!W9,$A$7:$E$171,5,FALSE)*100-100,1) -> -4 | AB9: =+(POWER((AA9+100)/100,1/(X9-W9))-1)*100 -> -0.58147421
A10: 1864 | B10: -2.7465668 | D10: 0.37589502 | E10: 66082.812 | W10: 1921 | X10: =+W11 -> 1935 | Y10: =+ROUND(VLOOKUP(X10,'[4]foi 1861 - 1954'!$A$6:$B$170,2,FALSE)/VLOOKUP('1'!W10,'[4]foi 1861 - 1954'!$A$6:$B$170,2,FALSE)*100-100,1) -> -17.7 | Z10: =+(POWER((Y10+100)/100,1/(X10-W10))-1)*100 -> -1.3817865 | AA10: =+ROUND(VLOOKUP(X10,$A$7:$E$171,5,FALSE)/VLOOKUP('1'!W10,$A$7:$E$171,5,FALSE)*100-100,1) -> 43.9 | AB10: =+(POWER((AA10+100)/100,1/(X10-W10))-1)*100 -> 2.6337168
A11: 1865 | B11: -1.6688062 | D11: 0.37589502 | E11: 70609.398 | W11: 1935 | X11: =+W12 -> 1939 | Y11: =+ROUND(VLOOKUP(X11,'[4]foi 1861 - 1954'!$A$6:$B$170,2,FALSE)/VLOOKUP('1'!W11,'[4]foi 1861 - 1954'!$A$6:$B$170,2,FALSE)*100-100,1) -> 32.4 | Z11: =+(POWER((Y11+100)/100,1/(X11-W11))-1)*100 -> 7.2684478 | AA11: =+ROUND(VLOOKUP(X11,$A$7:$E$171,5,FALSE)/VLOOKUP('1'!W11,$A$7:$E$171,5,FALSE)*100-100,1) -> 15.9 | AB11: =+(POWER((AA11+100)/100,1/(X11-W11))-1)*100 -> 3.7578249
A12: 1866 | B12: 1.0443864 | D12: 0.37589502 | E12: 71054.595 | W12: 1939 | X12: =+W13 -> 1954 | Y12: =+ROUND(VLOOKUP(X12,'[4]foi 1861 - 1954'!$A$6:$B$170,2,FALSE)/VLOOKUP('1'!W12,'[4]foi 1861 - 1954'!$A$6:$B$170,2,FALSE)*100-100,1) -> 5460.4 | Z12: =+(POWER((Y12+100)/100,1/(X12-W12))-1)*100 -> 30.719507 | AA12: =+ROUND(VLOOKUP(X12,$A$7:$E$171,5,FALSE)/VLOOKUP('1'!W12,$A$7:$E$171,5,FALSE)*100-100,1) -> 46.5 | AB12: =+(POWER((AA12+100)/100,1/(X12-W12))-1)*100 -> 2.5783813
A13: 1867 | B13: 2.4547804 | D13: 0.37589502 | E13: 65487.016 | L13: nic | W13: 1954 | X13: =+W14 -> 1969 | Y13: =+ROUND(VLOOKUP(X13,'[4]nic 1955 - 2025'!$B$1:$C$73,2,FALSE)/VLOOKUP('1'!W13,'[4]nic 1955 - 2025'!$B$1:$C$73,2,FALSE)*'[4]nic 1955 - 2025'!D14*100-100,1) -> 57.5 | Z13: =+(POWER((Y13+100)/100,1/(X13-W13))-1)*100 -> 3.07469 | AA13: =+ROUND(VLOOKUP(X13,$A$7:$E$171,5,FALSE)/VLOOKUP('1'!W13,$A$7:$E$171,5,FALSE)*100-100,1) -> 155.7 | AB13: =+(POWER((AA13+100)/100,1/(X13-W13))-1)*100 -> 6.4589182
A14: 1868 | B14: 4.035309 | D14: 0.37589502 | E14: 66965.449 | W14: 1969 | X14: =+W15 -> 1986 | Y14: =+ROUND(VLOOKUP(X14,'[4]nic 1955 - 2025'!$B$1:$C$73,2,FALSE)/VLOOKUP('1'!W14,'[4]nic 1955 - 2025'!$B$1:$C$73,2,FALSE)*'[4]nic 1955 - 2025'!D33*'[4]nic 1955 - 2025'!D28*'[4]nic 1955 - 2025'!D24*'[4]nic 1955 - 2025'!D18*100-100,1) -> 670.9 | Z14: =+(POWER((Y14+100)/100,1/(X14-W14))-1)*100 -> 12.765527 | AA14: =+ROUND(VLOOKUP(X14,$A$7:$E$171,5,FALSE)/VLOOKUP('1'!W14,$A$7:$E$171,5,FALSE)*100-100,1) -> 64.2 | AB14: =+(POWER((AA14+100)/100,1/(X14-W14))-1)*100 -> 2.9601126
A15: 1869 | B15: 0.60606061 | D15: 0.37589502 | E15: 68124.399 | W15: 1986 | X15: =+W16 -> 1995 | Y15: =+ROUND(VLOOKUP(X15,'[4]nic 1955 - 2025'!$B$1:$C$73,2,FALSE)/VLOOKUP('1'!W15,'[4]nic 1955 - 2025'!$B$1:$C$73,2,FALSE)*'[4]nic 1955 - 2025'!D38*100-100,1) -> 59.4 | Z15: =+(POWER((Y15+100)/100,1/(X15-W15))-1)*100 -> 5.3170539 | AA15: =+ROUND(VLOOKUP(X15,$A$7:$E$171,5,FALSE)/VLOOKUP('1'!W15,$A$7:$E$171,5,FALSE)*100-100,1) -> 19.5 | AB15: =+(POWER((AA15+100)/100,1/(X15-W15))-1)*100 -> 1.9991221
A16: 1870 | B16: 1.4457831 | D16: 0.37589502 | E16: 70408.786 | W16: 1995 | X16: =+W17 -> 2021 | Y16: =+ROUND(VLOOKUP(X16,'[4]nic 1955 - 2025'!$B$1:$C$73,2,FALSE)/VLOOKUP('1'!W16,'[4]nic 1955 - 2025'!$B$1:$C$73,2,FALSE)*'[4]nic 1955 - 2025'!D63*'[4]nic 1955 - 2025'!D58*'[4]nic 1955 - 2025'!D43*100-100,1) -> 57.3 | Z16: =+(POWER((Y16+100)/100,1/(X16-W16))-1)*100 -> 1.7575142 | AA16: =+ROUND(VLOOKUP(X16,$A$7:$E$171,5,FALSE)/VLOOKUP('1'!W16,$A$7:$E$171,5,FALSE)*100-100,1) -> 15.9 | AB16: =+(POWER((AA16+100)/100,1/(X16-W16))-1)*100 -> 0.56914259
A17: 1871 | B17: 3.087886 | D17: 0.37589502 | E17: 69271.696 | W17: 2021 | X17: 2025 | Y17: =+ROUND(VLOOKUP(X17,'[4]nic 1955 - 2025'!$B$1:$C$73,2,FALSE)/VLOOKUP('1'!W17,'[4]nic 1955 - 2025'!$B$1:$C$73,2,FALSE)*100-100,1) -> 17.1 | Z17: =+(POWER((Y17+100)/100,1/(X17-W17))-1)*100 -> 4.0253591 | AA17: =+ROUND(VLOOKUP(X17,$A$7:$E$171,5,FALSE)/VLOOKUP('1'!W17,$A$7:$E$171,5,FALSE)*100-100,1) -> 7.7 | AB17: =+(POWER((AA17+100)/100,1/(X17-W17))-1)*100 -> 1.8717873
A18: 1872 | B18: 13.018433 | D18: 0.37589502 | E18: 68171.058 | W18: 1921 | X18: 1929 | Y18: =+ROUND(VLOOKUP(X18,'[4]foi 1861 - 1954'!$A$6:$B$170,2,FALSE)/VLOOKUP('1'!W18,'[4]foi 1861 - 1954'!$A$6:$B$170,2,FALSE)*100-100,1) -> 6.7 | Z18: =+(POWER((Y18+100)/100,1/(X18-W18))-1)*100 -> 0.81393171 | AA18: =+ROUND(VLOOKUP(X18,$A$7:$E$171,5,FALSE)/VLOOKUP('1'!W18,$A$7:$E$171,5,FALSE)*100-100,1) -> 43.8 | AB18: =+(POWER((AA18+100)/100,1/(X18-W18))-1)*100 -> 4.6453321
A19: 1873 | B19: 6.0142712 | D19: 0.37589502 | E19: 68209.466 | W19: 1929 | X19: 1935 | Y19: =+ROUND(VLOOKUP(X19,'[4]foi 1861 - 1954'!$A$6:$B$170,2,FALSE)/VLOOKUP('1'!W19,'[4]foi 1861 - 1954'!$A$6:$B$170,2,FALSE)*100-100,1) -> -22.9 | Z19: =+(POWER((Y19+100)/100,1/(X19-W19))-1)*100 -> -4.2418538 | AA19: =+ROUND(VLOOKUP(X19,$A$7:$E$171,5,FALSE)/VLOOKUP('1'!W19,$A$7:$E$171,5,FALSE)*100-100,1) -> 0.1 | AB19: =+(POWER((AA19+100)/100,1/(X19-W19))-1)*100 -> 0.016659726
A20: 1874 | B20: 2.4038462 | D20: 0.37589502 | E20: 72116.69
A21: 1875 | B21: -14.366197 | D21: 0.37589502 | E21: 72710.326
A22: 1876 | B22: 5.8114035 | D22: 0.37589502 | E22: 71331.564
A23: 1877 | B23: 4.0414508 | D23: 0.37589502 | E23: 72423.78
A24: 1878 | B24: -3.685259 | D24: 0.37589502 | E24: 74761.426
A25: 1879 | B25: -1.2409514 | D25: 0.37589502 | E25: 75401.466
A26: 1880 | B26: 3.6649215 | D26: 0.37589502 | E26: 77059.251
A27: 1881 | B27: -6.4646465 | D27: 0.37589502 | E27: 79480.933
A28: 1882 | B28: -2.3758099 | D28: 0.37589502 | E28: 81104.527
A29: 1883 | B29: -3.2079646 | D29: 0.37589502 | E29: 82430.232
A30: 1884 | B30: -1.9428571 | D30: 0.37589502 | E30: 81774.113
A31: 1885 | B31: 2.2144522 | D31: 0.37589502 | E31: 83766.424
... A100: 1954 | B100: 2.6885942 | D100: 30.719507 | E100: 312935.53
A101: 1955 | B101: 2.8071969 | C101: 2.3 | D101: 3.07469 | E101: 334758.17
A102: 1956 | C102: 3.4 | D102: 3.07469 | E102: 351394.53
A103: 1957 | C103: 1.3 | D103: 3.07469 | E103: 371503.43
A104: 1958 | C104: 2.8 | D104: 3.07469 | E104: 393576.74
A105: 1959 | C105: -0.4 | D105: 3.07469 | E105: 421586.36
A106: 1960 | C106: 2.3 | D106: 3.07469 | E106: 454076.54
A107: 1961 | C107: 2.1 | D107: 3.07469 | E107: 492522.75
A108: 1962 | C108: 4.7 | D108: 3.07469 | E108: 526909.98
A109: 1963 | C109: 7.5 | D109: 3.07469 | E109: 559667.16
A110: 1964 | C110: 5.9 | D110: 3.07469 | E110: 581827.18
A111: 1965 | C111: 4.6 | D111: 3.07469 | E111: 608615.85
A112: 1966 | C112: 2.3 | D112: 3.07469 | E112: 649289.73
A113: 1967 | C113: 3.8 | D113: 3.07469 | E113: 699378.32
... A171: 2025 | C171: 1.5 | D171: 4.0253591 | E171: 1960421
A173: Fonte: Istat, Serie storiche e Indici dei prezzi al consumo
A174: (a) Fino al 1954 è rappresentato l’indice dei prezzi per famiglie di operai e impiegati (FOI), dal 1955 l’indice per l’intera collettività (NIC)

Sheet 2
A1: #VALUE! | B1: I prezzi al consumo
A2: Vai all'indice
A4: Figura 2. Indici dei prezzi al consumo dei beni energetici e indice generale per l’intera collettività. Gennaio 1954-settembre 2026. Variazioni percentuali sullo stesso periodo dell’anno precedente e variazioni medie annue
A5: Periodo | B5: energetici | C5: energetici (nuova coicop) | D5: Indice NIC
A6: 20090 | B6: -0.3 | D6: 2.3
A7: 20121 | B7: -0.4 | D7: 2.3
A8: 20149 | B8: -0.4 | D8: 2.3
A9: 20180 | B9: -0.3 | D9: 2.3
A10: 20210 | B10: -0.3 | D10: 2.3
A11: 20241 | B11: -0.3 | D11: 2.3
A12: 20271 | B12: -0.4 | D12: 2.3
A13: 20302 | B13: -0.5 | D13: 2.3
A14: 20333 | B14: -0.6 | D14: 2.3
A15: 20363 | B15: -0.6 | D15: 2.3
A16: 20394 | B16: -0.5 | D16: 2.3
A17: 20424 | B17: -0.4 | D17: 2.3
... A749: 42705 | B749: -1.9 | D749: -0.1
A750: 42736 | B750: 2.7 | C750: 2.9 | D750: 1.2
A751: 42767 | C751: 4.9 | D751: 1.2
A752: 42795 | C752: 4.8 | D752: 1.2
A753: 42826 | C753: 7.5 | D753: 1.2
A754: 42856 | C754: 6.5 | D754: 1.2
A755: 42887 | C755: 4.6 | D755: 1.2
A756: 42917 | C756: 3.6 | D756: 1.2
A757: 42948 | C757: 4.6 | D757: 1.2
A758: 42979 | C758: 3.4 | D758: 1.2
A759: 43009 | C759: 4.1 | D759: 1.2
A760: 43040 | C760: 4.5 | D760: 1.2
A761: 43070 | C761: 4.2 | D761: 1.2
A762: 43101 | C762: 4.5 | D762: 1.2
... A857: 45992 | C857: -4.5 | D857: 1.5
A858: 46023 | C858: -6.2
A859: 46054 | C859: -6.6
A860: 46082 | C860: -2.1
A861: 46113 | C861: 9.2
A862: 46143 | C862: 11.9
A863: 46174 | C863: 13
A864: 46204 | C864: 11.6
A865: 46235 | C865: 17.1
A866: 46266 | C866: 22.3
A867: Fonte: Istat, elaborazione su dati storici e indagine sui prezzi al consumo

Sheet 3
A1: #VALUE! | B1: I prezzi al consumo
A2: Vai all'indice
A4: Figura 3. Andamento dei prezzi dei beni e dei servizi. Anni 1955-2025. variazioni medie annue (sinistra) e indici decennali (destra; inizio periodo=100)
A5: Pannello sinistro | D5: Pannello destro
A6: Anni | B6: Beni | C6: Servizi | D6: 1955-1965 | F6: 1965-1975 | H6: 1975-1985 | J6: 1985-1995 | L6: 1995-2005 | N6: 2005-2015 | P6: 2015-2025
A7: 1955 | B7: 1.8 | C7: 4.9 | D7: 100 | E7: 100
A8: 1956 | B8: 3.1 | C8: 4.4 | D8: 103.1 | E8: 104.4
A9: 1957 | B9: 0.7 | C9: 4 | D9: 103.8217 | E9: 108.576
A10: 1958 | B10: 2.7 | C10: 3.7 | D10: 106.62489 | E10: 112.59331
A11: 1959 | B11: -1.9 | C11: 4.8 | D11: 104.59901 | E11: 117.99779
A12: 1960 | B12: 1.1 | C12: 7.1 | D12: 105.7496 | E12: 126.37563
A13: 1961 | B13: 0 | C13: 9.3 | D13: 105.7496 | E13: 138.12857
A14: 1962 | B14: 4.5 | C14: 5.1 | D14: 110.50833 | E14: 145.17313
A15: 1963 | B15: 7.5 | C15: 7.4 | D15: 118.79646 | E15: 155.91594
A16: 1964 | B16: 5.2 | C16: 8 | D16: 124.97388 | E16: 168.38921
A17: 1965 | B17: 4.4 | C17: 5 | D17: 130.47273 | E17: 176.80867 | F17: 100 | G17: 100
A18: 1966 | B18: 1.8 | C18: 4.2 | F18: 101.8 | G18: 104.2
A19: 1967 | B19: 1.9 | C19: 9.2 | F19: 103.7342 | G19: 113.7864
A20: 1968 | B20: 0.5 | C20: 3.4 | F20: 104.25287 | G20: 117.65514
A21: 1969 | B21: 2.5 | C21: 3.3 | F21: 106.85919 | G21: 121.53776
A22: 1970 | B22: 4.9 | C22: 5.1 | F22: 112.09529 | G22: 127.73618
A23: 1971 | B23: 4.8 | C23: 4.8 | F23: 117.47587 | G23: 133.86752
A24: 1972 | B24: 5.7 | C24: 5.6 | F24: 124.17199 | G24: 141.3641
A25: 1973 | B25: 11.3 | C25: 9.6 | F25: 138.20343 | G25: 154.93505
A26: 1974 | B26: 21.7 | C26: 12.1 | F26: 168.19357 | G26: 173.6822
A27: 1975 | B27: 16.6 | C27: 18.1 | F27: 196.1137 | G27: 205.11867 | H27: 100 | I27: 100
A28: 1976 | B28: 17.2 | C28: 15.4 | H28: 117.2 | I28: 115.4
A29: 1977 | B29: 18.2 | C29: 14.2 | H29: 138.5304 | I29: 131.7868
A30: 1978 | B30: 12 | C30: 12.1 | H30: 155.15405 | I30: 147.733
A31: 1979 | B31: 13.9 | C31: 16.7 | H31: 176.72046 | I31: 172.40441
A32: 1980 | B32: 21.7 | C32: 20.6 | H32: 215.0688 | I32: 207.91972
A33: 1981 | B33: 16.8 | C33: 20.6 | H33: 251.20036 | I33: 250.75119
A34: 1982 | B34: 16 | C34: 17.5 | H34: 291.39242 | I34: 294.63264
A35: 1983 | B35: 13.2 | C35: 18.3 | H35: 329.85622 | I35: 348.55042
A36: 1984 | B36: 9.8 | C36: 13.2 | H36: 362.18212 | I36: 394.55907
A37: 1985 | B37: 8.6 | C37: 10.4 | H37: 393.32979 | I37: 435.59322 | J37: 100 | K37: 100
A38: 1986 | B38: 4.5 | C38: 8.9 | J38: 104.5 | K38: 108.9
A39: 1987 | B39: 4.3 | C39: 5.6 | J39: 108.9935 | K39: 114.9984
A40: 1988 | B40: 4.4 | C40: 6.3 | J40: 113.78921 | K40: 122.2433
A41: 1989 | B41: 5.6 | C41: 7.7 | J41: 120.16141 | K41: 131.65603
A42: 1990 | B42: 6 | C42: 7.4 | J42: 127.37109 | K42: 141.39858
A43: 1991 | B43: 5.7 | C43: 7.3 | J43: 134.63125 | K43: 151.72068
A44: 1992 | B44: 4.1 | C44: 7.5 | J44: 140.15113 | K44: 163.09973
A45: 1993 | B45: 4.1 | C45: 5.6 | J45: 145.89732 | K45: 172.23331
A46: 1994 | B46: 3.9 | C46: 4.3 | J46: 151.58732 | K46: 179.63934
A47: 1995 | B47: 5.3 | C47: 5.2 | J47: 159.62145 | K47: 188.98059 | L47: 100 | M47: 100
A48: 1996 | B48: 3.8 | C48: 4.4 | L48: 103.8 | M48: 104.4
A49: 1997 | B49: 1.4 | C49: 3.2 | L49: 105.2532 | M49: 107.7408
A50: 1998 | B50: 1.5 | C50: 2.7 | L50: 106.832 | M50: 110.6498
A51: 1999 | B51: 1.2 | C51: 2.4 | L51: 108.11398 | M51: 113.3054
A52: 2000 | B52: 2.6 | C52: 2.4 | L52: 110.92495 | M52: 116.02473
A53: 2001 | B53: 2.5 | C53: 3.3 | L53: 113.69807 | M53: 119.85354
A54: 2002 | B54: 1.8 | C54: 3.4 | L54: 115.74463 | M54: 123.92856
A55: 2003 | B55: 2.2 | C55: 3.2 | L55: 118.29102 | M55: 127.89428
A56: 2004 | B56: 1.7 | C56: 3.1 | L56: 120.30196 | M56: 131.859
A57: 2005 | B57: 1.5 | C57: 2.6 | L57: 122.10649 | M57: 135.28733 | N57: 100 | O57: 100
A58: 2006 | B58: 2 | C58: 2.1 | N58: 102 | O58: 102.1
A59: 2007 | B59: 1.5 | C59: 2.1 | N59: 103.53 | O59: 104.2441
A60: 2008 | B60: 3.6 | C60: 3 | N60: 107.25708 | O60: 107.37142
A61: 2009 | B61: 0 | C61: 1.9 | N61: 107.25708 | O61: 109.41148
A62: 2010 | B62: 1.3 | C62: 1.9 | N62: 108.65142 | O62: 111.4903
A63: 2011 | B63: 3.1 | C63: 2.3 | N63: 112.01962 | O63: 114.05458
A64: 2012 | B64: 3.8 | C64: 2.2 | N64: 116.27636 | O64: 116.56378
A65: 2013 | B65: 0.9 | C65: 1.5 | N65: 117.32285 | O65: 118.31223
A66: 2014 | B66: -0.3 | C66: 0.9 | N66: 116.97088 | O66: 119.37704
A67: 2015 | B67: -0.5 | C67: 0.6 | N67: 116.38603 | O67: 120.0933 | P67: 100 | Q67: 100
A68: 2016 | B68: -0.6 | C68: 0.6 | P68: 99.4 | Q68: 100.6
A69: 2017 | B69: 1.3 | C69: 1.1 | P69: 100.6922 | Q69: 101.7066
A70: 2018 | B70: 1.3 | C70: 1 | P70: 102.0012 | Q70: 102.72367
A71: 2019 | B71: 0.4 | C71: 0.9 | P71: 102.4092 | Q71: 103.64818
A72: 2020 | B72: -0.7 | C72: 0.5 | P72: 101.69234 | Q72: 104.16642
A73: 2021 | B73: 2.6 | C73: 1 | P73: 104.33634 | Q73: 105.20808
A74: 2022 | B74: 12 | C74: 3.1 | P74: 116.8567 | Q74: 108.46953
A75: 2023 | B75: 6.4 | C75: 4.1 | P75: 124.33553 | Q75: 112.91679
A76: 2024 | B76: -0.5 | C76: 2.9 | P76: 123.71385 | Q76: 116.19137
A77: 2025 | B77: 0.7 | C77: 2.6 | P77: 124.57985 | Q77: 119.21235
A78: Fonte: Istat, elaborazione su dati storici e indagine sui prezzi al consumo

Sheet 4
A1: #VALUE! | B1: I prezzi al consumo
A2: Vai all'indice
A4: Figura 4. Indici dei prezzi al consumo per l’intera collettività, per divisione di spesa e aggregati selezionati. Anno 2025. Variazioni percentuali sui valori medi relativi all’anno 2000
A5: Abitaz. e utenze | B5: 118.8 | C5: 51.1 | D5: 144.5 | F5: Affitti | H5: Elettric.e combust.
A6: Alcol e tab. | B6: 114.7
A7: Serv.fin. e assic. | B7: 106.6
A8: Aliment. e bev. | B8: 87
A9: Alloggio / ristor. | B9: 85.7
A10: Tra- sporti | B10: 78 | C10: 52.7 | D10: 147.4 | E10: 71.3 | F10: Acquisto auto | G10: Carburanti | H10: Servizi di trasp.
A11: S.pers. e altro | B11: 67.5
A12: TOTALE | B12: 63.3
A13: Ricreaz. sport e cultura | B13: 51.1
A14: Arredo altre sp.per la casa | B14: 48.9
A15: Abbi- gliam. | B15: 41
A16: Istru- zione | B16: 24.7
A17: Sanità | B17: 15.9
A18: Beni e ser. ICT | B18: -58.3
A21: Fonte: Istat, Indagine sui prezzi al consumo

Sheet 5
A1: #VALUE! | B1: I prezzi al consumo
A2: Vai all'indice
A4: Quantità acquistabili con una somma equivalente a cinque euro del 2025 di alcuni beni di largo consumo alimentare. anni 1926 e 2025. Chilogrammi, litri, unità
A5: ANNI | B5: Pane (Kg) | C5: Pasta (Kg) | D5: Riso (Kg) | E5: Patate (Kg) | F5: Carne bovina (Kg) | G5: Carne suina (Kg) | H5: Uova (6) | I5: Latte (litro) | J5: Burro (Kg) | K5: Lardo (Kg) | L5: Olio extra vergine d'oliva (litro) | M5: Olio di oliva (litro) | N5: Vino (litro) | O5: Caffè tostato (hg) | P5: Zucchero (Kg)
A6: 1926 | B6: 1.7833543 | C6: 1.2588383 | D6: 1.2939687 | E6: 5.5640655 | F6: 0.34261487 | G6: 0.44583858 | H6: 1.2201898 | I6: 3.0571788 | J6: 0.25108599 | K6: 0.46522287 | L6: 0.40630123 | M6: 0.48215472 | N6: 2.1236891 | O6: 1.5194062 | P6: 0.72260591
A7: 2025 | B7: 1.2626263 | C7: 2.9411765 | D7: 1.6339869 | E7: 3.164557 | F7: 0.23169601 | G7: 0.5387931 | H7: 2.4752475 | I7: 2.8571429 | J7: 0.37735849 | L7: 0.66577896 | N7: 2.2321429 | O7: 3.0959752 | P7: 3.9370079
A21: Fonte: Istat, elaborazione su dati storici e indagine sui prezzi al consumo

Sheet 6
A1: #VALUE! | B1: I prezzi al consumo
A2: Vai all'indice
A4: Figura 6. I prezzi al consumo in Italia, Francia, Germania e Spagna. Variazioni annue (sinistra) e cumulate (destra). anni 1956-2025 e 1975-2025. Valori percentuali
A5: PANNELLO SINISTRO | B5: 1956 | C5: 1957 | D5: 1958 | E5: 1959 | F5: 1960 | G5: 1961 | H5: 1962 | I5: 1963 | J5: 1964 | K5: 1965 | L5: 1966 | M5: 1967 | N5: 1968 | O5: 1969 | P5: 1970 | Q5: 1971 | R5: 1972 | S5: 1973 | T5: 1974 | U5: 1975 | V5: 1976 | W5: 1977 | X5: 1978 | Y5: 1979 | Z5: 1980 | AA5: 1981 | AB5: 1982 | AC5: 1983 | AD5: 1984 | AE5: 1985 | AF5: 1986 | AG5: 1987 | AH5: 1988 | AI5: 1989 | AJ5: 1990 | AK5: 1991 | AL5: 1992 | AM5: 1993 | AN5: 1994 | AO5: 1995 | AP5: 1996 | AQ5: 1997 | AR5: 1998 | AS5: 1999 | AT5: 2000 | AU5: 2001 | AV5: 2002 | AW5: 2003 | AX5: 2004 | AY5: 2005 | AZ5: 2006 | BA5: 2007 | BB5: 2008 | BC5: 2009 | BD5: 2010 | BE5: 2011 | BF5: 2012 | BG5: 2013 | BH5: 2014 | BI5: 2015 | BJ5: 2016 | BK5: 2017 | BL5: 2018 | BM5: 2019 | BN5: 2020 | BO5: 2021 | BP5: 2022 | BQ5: 2023 | BR5: 2024 | BS5: 2025
A6: Italia | B6: 3.3827081 | C6: 1.3180104 | D6: 2.8588699 | E6: -0.50734956 | F6: 2.3501532 | G6: 2.0506855 | H6: 4.6911556 | I6: 7.4547104 | J6: 5.9123299 | K6: 4.5192703 | L6: 2.3465902 | M6: 3.733335 | N6: 1.2773109 | O6: 2.6572522 | P6: 4.9683236 | Q6: 4.7916665 | R6: 5.7495024 | S6: 10.798615 | T6: 19.159767 | U6: 16.950506 | V6: 16.614168 | W6: 17.130034 | X6: 12.094035 | Y6: 14.798559 | Z6: 21.064169 | AA6: 17.969308 | AB6: 16.480406 | AC6: 14.646589 | AD6: 10.794488 | AE6: 9.2059942 | AF6: 5.8235464 | AG6: 4.7472843 | AH6: 5.0582418 | AI6: 6.2598439 | AJ6: 6.4566034 | AK6: 6.2500016 | AL6: 5.2705874 | AM6: 4.6267314 | AN6: 4.0518442 | AO6: 5.2354205 | AP6: 4.0069798 | AQ6: 2.0431084 | AR6: 1.9550858 | AS6: 1.6634575 | AT6: 2.5376871 | AU6: 2.7851645 | AV6: 2.4653202 | AW6: 2.6725584 | AX6: 2.2067359 | AY6: 1.9852952 | AZ6: 2.0908415 | BA6: 1.8297393 | BB6: 3.3478342 | BC6: 0.77476841 | BD6: 1.5255152 | BE6: 2.7805746 | BF6: 3.0413611 | BG6: 1.2199948 | BH6: 0.24105663 | BI6: 0.038788055 | BJ6: -0.094066387 | BK6: 1.2265288 | BL6: 1.1374859 | BM6: 0.61124944 | BN6: -0.13770726 | BO6: 1.8737831 | BP6: 8.2012898 | BQ6: 5.6221929 | BR6: 0.98237511 | BS6: 1.5316736
A7: Francia | B7: 1.8973112 | C7: 3.0576721 | D7: 15.260525 | E7: 5.8152538 | F7: 4.1399396 | G7: 2.4004563 | H7: 5.3312754 | I7: 4.9991686 | J7: 3.2111879 | K7: 2.7031214 | L7: 2.6019784 | M7: 2.7917897 | N7: 4.5431843 | O7: 6.0459652 | P7: 5.2996613 | Q7: 5.3975104 | R7: 6.0630004 | S7: 7.3805961 | T7: 13.649324 | U7: 11.685929 | V7: 9.6254943 | W7: 9.4945565 | X7: 9.2505536 | Y7: 10.646737 | Z7: 13.56258 | AA7: 13.3144 | AB7: 11.978472 | AC7: 9.4595493 | AD7: 7.6738045 | AE7: 5.8310977 | AF7: 2.5385268 | AG7: 3.2888994 | AH7: 2.7008198 | AI7: 3.4982964 | AJ7: 3.1942827 | AK7: 3.2134108 | AL7: 2.3637556 | AM7: 2.1044672 | AN7: 1.6555139 | AO7: 1.796481 | AP7: 1.9849797 | AQ7: 1.2027469 | AR7: 0.65001622 | AS7: 0.5401155 | AT7: 1.6706199 | AU7: 1.6381245 | AV7: 1.9219078 | AW7: 2.0987023 | AX7: 2.1461786 | AY7: 1.7415665 | AZ7: 1.6761892 | BA7: 1.488327 | BB7: 2.8129239 | BC7: 0.087594083 | BD7: 1.5331756 | BE7: 2.1080747 | BF7: 1.9551239 | BG7: 0.86272987 | BH7: 0.50773768 | BI7: 0.040333152 | BJ7: 0.18444978 | BK7: 1.0292061 | BL7: 1.8522207 | BM7: 1.1067657 | BN7: 0.47770085 | BO7: 1.6409062 | BP7: 5.2229408 | BQ7: 4.8800022 | BR7: 1.997426 | BS7: 0.94382476
A8: Germania | B8: 2.617948 | C8: 2.0964912 | D8: 2.1276511 | E8: 0.89631104 | F8: 1.5366123 | G8: 2.293695 | H8: 2.8432702 | I8: 2.9669598 | J8: 2.3357358 | K8: 3.2423192 | L8: 3.5330604 | M8: 1.7960499 | N8: 1.4702893 | O8: 1.9126785 | P8: 3.4502494 | Q8: 5.2409745 | R8: 5.4849331 | S8: 7.032024 | T8: 6.9864311 | U8: 5.9103363 | V8: 4.246631 | W8: 3.7341624 | X8: 2.718697 | Y8: 4.0436201 | Z8: 5.4410575 | AA8: 6.3442428 | AB8: 5.2410451 | AC8: 3.2934147 | AD8: 2.4057934 | AE8: 2.066233 | AF8: -0.12941336 | AG8: 0.24990611 | AH8: 1.2741189 | AI8: 2.7805696 | AJ8: 2.6964682 | AK8: 4.0470326 | AL8: 5.056978 | AM8: 4.4745765 | AN8: 2.6930564 | AO8: 1.7061604 | AP8: 1.449727 | AQ8: 1.939372 | AR8: 0.91118354 | AS8: 0.58543306 | AT8: 1.4402684 | AU8: 1.9838573 | AV8: 1.4208062 | AW8: 1.0342222 | AX8: 1.665737 | AY8: 1.5469111 | AZ8: 1.5774264 | BA8: 2.298344 | BB8: 2.6283798 | BC8: 0.31273901 | BD8: 1.1038104 | BE8: 2.0751728 | BF8: 2.0084888 | BG8: 1.5047233 | BH8: 0.906794 | BI8: 0.51442614 | BJ8: 0.49174701 | BK8: 1.5094949 | BL8: 1.7321688 | BM8: 1.4456598 | BN8: 0.14487793 | BO8: 3.0666667 | BP8: 6.8725744 | BQ8: 5.9464367 | BR8: 2.2564981 | BS8: 2.1717877
A9: Spagna | B9: 5.8526581 | C9: 10.772472 | D9: 13.378954 | E9: 7.3097655 | F9: 1.1777563 | G9: 0.80926149 | H9: 5.7064864 | I9: 8.743692 | J9: 6.979249 | K9: 13.214145 | L9: 6.240356 | M9: 6.3916328 | N9: 4.9543673 | O9: 2.1603403 | P9: 5.7311549 | Q9: 8.2368841 | R9: 8.2722912 | S9: 11.416704 | T9: 15.680375 | U9: 16.953285 | V9: 17.62488 | W9: 24.538059 | X9: 19.773667 | Y9: 15.660237 | Z9: 15.561908 | AA9: 14.549359 | AB9: 14.414987 | AC9: 12.174083 | AD9: 11.280268 | AE9: 8.8144577 | AF9: 8.7949369 | AG9: 5.2480231 | AH9: 4.8372643 | AI9: 6.7914354 | AJ9: 6.721824 | AK9: 5.9342091 | AL9: 5.9245414 | AM9: 4.5690668 | AN9: 4.7184126 | AO9: 4.6738042 | AP9: 3.5588447 | AQ9: 1.9710718 | AR9: 1.8343379 | AS9: 2.3103434 | AT9: 3.4335166 | AU9: 3.5898337 | AV9: 3.0654561 | AW9: 3.0391361 | AX9: 3.0394838 | AY9: 3.3683143 | AZ9: 3.5158103 | BA9: 2.7865918 | BB9: 4.0756625 | BC9: -0.28793363 | BD9: 1.7998277 | BE9: 3.1960943 | BF9: 2.4459574 | BG9: 1.408716 | BH9: -0.15092122 | BI9: -0.50032742 | BJ9: -0.2027219 | BK9: 1.9557573 | BL9: 1.6753982 | BM9: 0.69926714 | BN9: -0.32256462 | BO9: 3.0930499 | BP9: 8.3904194 | BQ9: 3.5324729 | BR9: 2.7740699 | BS9: 2.6732674
A11: PANNELLO DESTRO | B11: 2025-15 | C11: 2025-05 | D11: 2025-95 | E11: 2025-85 | F11: 2025-75
A12: Italia | B12: 22.671319 | C12: 44.95588 | D12: 84.296923 | E12: 211.10389 | F12: 1161.8487
A13: Francia | B13: 20.950672 | C13: 37.674675 | D13: 60.692729 | E13: 108.39653 | F13: 443.48648
A14: Germania | B14: 28.543566 | C14: 49.03859 | D14: 71.216129 | E14: 118.56711 | F14: 221.82645
A15: Spagna | B15: 26.76732 | C15: 51.77264 | D15: 102.37475 | E15: 256.10774 | F15: 1386.6738
A24: Fonte: Fondo Monetario Internazionale, Consumer Price Index (CPI), su dati nazionali
A25: https://data.imf.org/en/Data-Explorer?datasetUrn=IMF.STA:CPI(5.0.0)
